BEGIN:VCALENDAR
VERSION:2.0
PRODID:-//The Wildflower Society Co. - ECPv6.15.17//NONSGML v1.0//EN
CALSCALE:GREGORIAN
METHOD:PUBLISH
X-WR-CALNAME:The Wildflower Society Co.
X-ORIGINAL-URL:https://awildflowersociety.com
X-WR-CALDESC:Events for The Wildflower Society Co.
REFRESH-INTERVAL;VALUE=DURATION:PT1H
X-Robots-Tag:noindex
X-PUBLISHED-TTL:PT1H
BEGIN:VTIMEZONE
TZID:America/Los_Angeles
BEGIN:DAYLIGHT
TZOFFSETFROM:-0800
TZOFFSETTO:-0700
TZNAME:PDT
DTSTART:20250309T100000
END:DAYLIGHT
BEGIN:STANDARD
TZOFFSETFROM:-0700
TZOFFSETTO:-0800
TZNAME:PST
DTSTART:20251102T090000
END:STANDARD
BEGIN:DAYLIGHT
TZOFFSETFROM:-0800
TZOFFSETTO:-0700
TZNAME:PDT
DTSTART:20260308T100000
END:DAYLIGHT
BEGIN:STANDARD
TZOFFSETFROM:-0700
TZOFFSETTO:-0800
TZNAME:PST
DTSTART:20261101T090000
END:STANDARD
BEGIN:DAYLIGHT
TZOFFSETFROM:-0800
TZOFFSETTO:-0700
TZNAME:PDT
DTSTART:20270314T100000
END:DAYLIGHT
BEGIN:STANDARD
TZOFFSETFROM:-0700
TZOFFSETTO:-0800
TZNAME:PST
DTSTART:20271107T090000
END:STANDARD
END:VTIMEZONE
BEGIN:VEVENT
DTSTART;TZID=America/Los_Angeles:20260409T180000
DTEND;TZID=America/Los_Angeles:20260409T200000
DTSTAMP:20260304T093011
CREATED:20251021T214209Z
LAST-MODIFIED:20251021T214209Z
UID:10000024-1775757600-1775764800@awildflowersociety.com
SUMMARY:Women’s Circle: Wild Woman Awakening
DESCRIPTION:Reconnect to your untamed\, authentic self. This circle invites freedom\, intuition\, creativity\, and playful empowerment. \nIf you’ve been craving a space to gather\, grow\, and just breathe for a second\, you’re going to love what we’ve been pouring our hearts into. We’ve launched The Wildflower Women’s Circle—a space for deep conversations\, soul care\, and the kind of connections that just get you. \nThis is for the women of Snohomish County\, WA\, and surrounding areas (if you’re up for a little drive\, we’d love to have you!). \nA place where you can step away from the day-to-day\, connect with other like-minded women\, and leave feeling refreshed\, inspired\, and seen. \n  \nWe believe in the power of community\, and we want everyone to feel welcome in our Women’s Circle. Whether you’re new to the idea\, or you’ve circled before — we would love to have you!
URL:https://awildflowersociety.com/event/womens-circle-wild-woman-awakening/
LOCATION:The Wildflower Society Co. Office\, 103 E 3rd St Suite 103\, Arlington\, WA\, 98223\, United States
CATEGORIES:Women's Circle
ATTACH;FMTTYPE=image/png:https://awildflowersociety.com/wp-content/uploads/2025/10/April-WC.png
END:VEVENT
BEGIN:VEVENT
DTSTART;TZID=America/Los_Angeles:20260411T110000
DTEND;TZID=America/Los_Angeles:20260411T140000
DTSTAMP:20260304T093011
CREATED:20251021T215432Z
LAST-MODIFIED:20251021T215432Z
UID:10000032-1775905200-1775916000@awildflowersociety.com
SUMMARY:Wildflower Spring Fling Pop-up Market
DESCRIPTION:A little color\, a lot of joy – welcome to the Spring Fling Market! 💐 \nThink: sunshine through the windows\, a mix of self-care services + shopping experiences and the perfect girls’ day out energy. Treat yourself to a little spring magic. \nGrab your bestie\, your mom\, or your daughter and make it a day to remember – full of connection\, creativity\, and community. 🌸
URL:https://awildflowersociety.com/event/wildflower-spring-fling-pop-up-market/
LOCATION:Pioneer Hall\, 20722 67th Avenue Northeast\, Arlington\, WA\, 98223\, United States
CATEGORIES:Wildflower Markets
ATTACH;FMTTYPE=image/png:https://awildflowersociety.com/wp-content/uploads/2025/10/April-Market.png
END:VEVENT
BEGIN:VEVENT
DTSTART;TZID=America/Los_Angeles:20260411T180000
DTEND;TZID=America/Los_Angeles:20260411T193000
DTSTAMP:20260304T093011
CREATED:20260111T214309Z
LAST-MODIFIED:20260111T214309Z
UID:10000049-1775930400-1775935800@awildflowersociety.com
SUMMARY:The Wildflower Junk Club: April
DESCRIPTION:Junk Club is our laid-back\, no-pressure creative hangout where crafting meets community. Bring whatever you’re working on- junk journaling\, scrapbooking\, bullet journaling\, crochet\, card making\, bracelet making\, anything\, or just show up and try our supplies! No rules\, no perfection… just vibes\, creativity\, and girl time. \nGrab your tickets here! \nWe believe crafting is healing\, and sometimes the best self-care is scissors\, glue\, and chatting with friends. Light snacks and refreshments are provided\, and you’re welcome to bring your own projects or use ours. \nCome relax\, make something fun\, and connect with other creative women in a cozy\, judgment-free space. \nThese happen after our markets at Pioneer Hall\, from 6-7:30 p.m. Tickets needed. \n  \n  \n 
URL:https://awildflowersociety.com/event/the-wildflower-junk-club-april/
LOCATION:Pioneer Hall\, 20722 67th Avenue Northeast\, Arlington\, WA\, 98223\, United States
CATEGORIES:Craft Event,Junk Club!
ATTACH;FMTTYPE=image/png:https://awildflowersociety.com/wp-content/uploads/2025/11/Screen-Shot-2026-01-07-at-12.27.16-PM.png
END:VEVENT
BEGIN:VEVENT
DTSTART;TZID=America/Los_Angeles:20260412T170000
DTEND;TZID=America/Los_Angeles:20260412T190000
DTSTAMP:20260304T093011
CREATED:20251117T045210Z
LAST-MODIFIED:20251117T045210Z
UID:10000042-1776013200-1776020400@awildflowersociety.com
SUMMARY:The Reading Room with Miria: Dream Interpretation
DESCRIPTION:Every 2nd Sunday \n5:00–7:00 PM\nThe Wildflower Society — Arlington\, WA \nWelcome to one of our most fascinating sessions — Dream Interpretation. \nApril’s Reading Room helps you explore the language your subconscious speaks in symbols\, imagery\, themes\, and narratives. \n✨ WE’LL EXPLORE:\n• The purpose of dreaming\n• Common dream archetypes + what they may point to\n• How to track and understand recurring symbols\n• How to interpret dreams through emotions\, not just visuals\n• How to use dream journaling to support intuition\n• How dreams connect to healing\, creativity\, and clarity \n✨ PLUS:\nEvery attendee begins with a personal tarot reading to guide your understanding of what you might need to cleanse\, ground\, or protect going forward. \n 
URL:https://awildflowersociety.com/event/the-reading-room-with-miria-dream-interpretation/
LOCATION:The Wildflower Society Co. Office\, 103 E 3rd St Suite 103\, Arlington\, WA\, 98223\, United States
CATEGORIES:Tarot Reading,The Reading Room
ATTACH;FMTTYPE=image/png:https://awildflowersociety.com/wp-content/uploads/2025/11/Screen-Shot-2025-11-16-at-2.19.19-PM.png
END:VEVENT
END:VCALENDAR