BEGIN:VCALENDAR
VERSION:2.0
PRODID:-//The Wildflower Society Co. - ECPv6.15.20//NONSGML v1.0//EN
CALSCALE:GREGORIAN
METHOD:PUBLISH
X-WR-CALNAME:The Wildflower Society Co.
X-ORIGINAL-URL:https://awildflowersociety.com
X-WR-CALDESC:Events for The Wildflower Society Co.
REFRESH-INTERVAL;VALUE=DURATION:PT1H
X-Robots-Tag:noindex
X-PUBLISHED-TTL:PT1H
BEGIN:VTIMEZONE
TZID:America/Los_Angeles
BEGIN:DAYLIGHT
TZOFFSETFROM:-0800
TZOFFSETTO:-0700
TZNAME:PDT
DTSTART:20250309T100000
END:DAYLIGHT
BEGIN:STANDARD
TZOFFSETFROM:-0700
TZOFFSETTO:-0800
TZNAME:PST
DTSTART:20251102T090000
END:STANDARD
BEGIN:DAYLIGHT
TZOFFSETFROM:-0800
TZOFFSETTO:-0700
TZNAME:PDT
DTSTART:20260308T100000
END:DAYLIGHT
BEGIN:STANDARD
TZOFFSETFROM:-0700
TZOFFSETTO:-0800
TZNAME:PST
DTSTART:20261101T090000
END:STANDARD
BEGIN:DAYLIGHT
TZOFFSETFROM:-0800
TZOFFSETTO:-0700
TZNAME:PDT
DTSTART:20270314T100000
END:DAYLIGHT
BEGIN:STANDARD
TZOFFSETFROM:-0700
TZOFFSETTO:-0800
TZNAME:PST
DTSTART:20271107T090000
END:STANDARD
END:VTIMEZONE
BEGIN:VEVENT
DTSTART;TZID=America/Los_Angeles:20260502T110000
DTEND;TZID=America/Los_Angeles:20260502T170000
DTSTAMP:20260420T114948
CREATED:20260131T001855Z
LAST-MODIFIED:20260131T001858Z
UID:10000103-1777719600-1777741200@awildflowersociety.com
SUMMARY:Wildflower Garden Party Market
DESCRIPTION:Our monthly markets at Pioneer Hall feature a curated mix of women-owned businesses offering both goods and services. Each market is designed to feel welcoming and community-centered\, with giveaways throughout the day\, complimentary goody bags for the first 20 guests\, and kid-friendly activities so the whole family can enjoy. \nCome shop local\, connect with community\, and spend the day in a space that celebrates women\, creativity\, and small businesses. And say hi to us! 
URL:https://awildflowersociety.com/event/wildflower-garden-party-market/
LOCATION:Pioneer Hall\, 20722 67th Avenue Northeast\, Arlington\, WA\, 98223\, United States
CATEGORIES:Wildflower Markets
ATTACH;FMTTYPE=image/png:https://awildflowersociety.com/wp-content/uploads/2025/10/12-2.png
END:VEVENT
BEGIN:VEVENT
DTSTART;TZID=America/Los_Angeles:20260502T180000
DTEND;TZID=America/Los_Angeles:20260502T193000
DTSTAMP:20260420T114948
CREATED:20260130T231347Z
LAST-MODIFIED:20260130T231349Z
UID:10000076-1777744800-1777750200@awildflowersociety.com
SUMMARY:The Wildflower Junk Club: May
DESCRIPTION:Junk Club is our laid-back\, no-pressure creative hangout where crafting meets community. Bring whatever you’re working on- junk journaling\, scrapbooking\, bullet journaling\, crochet\, card making\, bracelet making\, anything\, or just show up and try our supplies! No rules\, no perfection… just vibes\, creativity\, and girl time. \n  \nWe believe crafting is healing\, and sometimes the best self-care is scissors\, glue\, and chatting with friends. Light snacks and refreshments are provided\, and you’re welcome to bring your own projects or use ours. \nCome relax\, make something fun\, and connect with other creative women in a cozy\, judgment-free space. \nThese happen after our markets at Pioneer Hall\, from 6-7:30 p.m. Tickets needed. \n  \n  \n 
URL:https://awildflowersociety.com/event/the-wildflower-junk-club-may/
LOCATION:Pioneer Hall\, 20722 67th Avenue Northeast\, Arlington\, WA\, 98223\, United States
CATEGORIES:Craft Event,Junk Club!
ATTACH;FMTTYPE=image/png:https://awildflowersociety.com/wp-content/uploads/2025/11/Screen-Shot-2026-01-07-at-12.27.16-PM.png
END:VEVENT
BEGIN:VEVENT
DTSTART;TZID=America/Los_Angeles:20260514T180000
DTEND;TZID=America/Los_Angeles:20260514T200000
DTSTAMP:20260420T114948
CREATED:20260130T233111Z
LAST-MODIFIED:20260130T233114Z
UID:10000085-1778781600-1778788800@awildflowersociety.com
SUMMARY:Women’s Circle: Nourishing Your Body
DESCRIPTION:May’s Women’s Circle focuses on reconnecting with your body through gentleness\, curiosity\, and care. This gathering explores nourishment beyond food and invites a more compassionate relationship with your body. \nThe experience includes guided meditation\, a sound bath\, intuitive exercises\, and reflective journaling designed to support awareness\, balance\, and self trust. \n  \nIf you’ve been craving a space to gather\, grow\, and just breathe for a second\, you’re going to love what we’ve been pouring our hearts into. We’ve launched The Wildflower Women’s Circle—a space for deep conversations\, soul care\, and the kind of connections that just get you. \nThis is for the women of Snohomish County\, WA\, and surrounding areas (if you’re up for a little drive\, we’d love to have you!). \nA place where you can step away from the day-to-day\, connect with other like-minded women\, and leave feeling refreshed\, inspired\, and seen. \n  \nWe believe in the power of community\, and we want everyone to feel welcome in our Women’s Circle. Whether you’re new to the idea\, or you’ve circled before — we would love to have you!
URL:https://awildflowersociety.com/event/womens-circle-nourishing-your-body/
LOCATION:The Wildflower Society Co. Office\, 103 E 3rd St Suite 103\, Arlington\, WA\, 98223\, United States
CATEGORIES:Women's Circle
ATTACH;FMTTYPE=image/png:https://awildflowersociety.com/wp-content/uploads/2025/10/25.png
END:VEVENT
BEGIN:VEVENT
DTSTART;TZID=America/Los_Angeles:20260528T183000
DTEND;TZID=America/Los_Angeles:20260528T200000
DTSTAMP:20260420T114948
CREATED:20260122T222837Z
LAST-MODIFIED:20260122T223920Z
UID:10000054-1779993000-1779998400@awildflowersociety.com
SUMMARY:Passion Project Circle
DESCRIPTION:An intentional time to work on your dreams alongside women who get it. \n\n\n\nThis is for the women with ideas\, side projects\, creative pulls\, businesses they’re building slowly – in real life\, alongside motherhood\, work\, and everything else.  \n\n\n\nYou can come to: \n\n\n\n\nWork on your business\n\n\n\nBrainstorm ideas\n\n\n\nPlan content\n\n\n\nDream something up\n\n\n\nAsk questions\n\n\n\nGet feedback\n\n\n\nOr just sit quietly and work while other women do the same\n\n\n\n\nNo pressure to perform.No “you should be doing more.” \n\n\n\nJust a room full of women showing up for what matters to them. \n\n\n\nChristina will be there as a sounding board\, hype girl\, and idea untangler. If you want to talk through a side hustle\, brand identity\, next steps\, or even a full “what am I doing with my life?” moment – she’s your gal.  \n\n\n\nYour passion project might be: \n\n\n\n\nA small business\n\n\n\nCrafting\, not to make money but just to feel something that brings you joy.\n\n\n\nA side hustle\n\n\n\nA creative offering\n\n\n\nA dream you keep putting off\n\n\n\nSomething you’re not ready to name yet\n\n\n\n\nIt doesn’t have to make money (but it absolutely can.) \n\n\n\nWhat this space feels like:\n\n\n\n\nCozy coworking\n\n\n\nCreative energy\n\n\n\nEncouraging conversations\n\n\n\nBestie accountability without pressure\n\n\n\n\nBring your laptop\, notebook\, planner\, or project supplies.Come work\, dream\, ask questions\, or simply coexist. \n\n\n\nYou’ll leave feeling motivated\, supported\, and reminded that you’re allowed to want more.
URL:https://awildflowersociety.com/event/passion-project-circle-4/
LOCATION:The Wildflower Society Co. Office\, 103 E 3rd St Suite 103\, Arlington\, WA\, 98223\, United States
ATTACH;FMTTYPE=image/png:https://awildflowersociety.com/wp-content/uploads/2026/01/3.png
END:VEVENT
BEGIN:VEVENT
DTSTART;TZID=America/Los_Angeles:20260530T100000
DTEND;TZID=America/Los_Angeles:20260530T193000
DTSTAMP:20260420T114948
CREATED:20260320T210130Z
LAST-MODIFIED:20260320T210324Z
UID:10000119-1780135200-1780169400@awildflowersociety.com
SUMMARY:Wildflower Society Co. Presents: A One-Day Women's Retreat
DESCRIPTION:Some seasons of life call for more than a girls night. They call for a full day of coming back to yourself. That’s exactly what we built this for. Choose the morning session\, the afternoon session or both!  \n\n\n\nWe’re  hosting an intimate one-day retreat designed to help you reconnect with who you actually are\, release what you’ve been carrying\, and walk away with a real sense of what choosing yourself looks like in your everyday life. \n\n\n\nThis is not a conference. It’s not a workshop where you sit in a chair and take notes. It’s a full sensory\, soul-level experience where you get to slow down\, create\, cry if you need to\, laugh if you want to\, and finally give yourself permission to just be. \n\n\n\nTwo sessions. One incredible day. \n\n\n\nMORNING SESSION: Coming Home to Yourself (10:00 AM to 2:00 PM)Focus: Inner Child Healing \n\n\n\nWe open with a 30-minute sound bath and guided meditation to help you drop in and get present. From there we move into a sacred tea ceremony\, intuitive art\, and custom tea blending.. slow\, sensory\, and intentional. Then Christina takes you into the deeper work: automatic writing to get everything out of your head and onto paper\, a burn letter to release what you’ve been holding onto\, and a group share to process it all together. We close the session with a the hour of activity stations where you can make\, create\, reflect\, and just breathe. \n\n\n\nBREAK: 2:00 to 3:30 PMThis time is yours. Go grab lunch and come back\, head out with a friend\, or stay and hang with us. We have fridges on site if you want to bring your own food. Craft supplies and junk journaling will be out on the tables. No agenda\, no schedule. Just free time to decompress before we go back in. If you are only doing the morning session feel free to hang out during break\, if you are only doing the afternoon session\, feel free to come early for break.  \n\n\n\nAFTERNOON SESSION: Choosing Yourself on Purpose (3:30 to 7:30 PM)Focus: Self-Love and Self-Acceptance \n\n\n\nWe open the afternoon with a 30-minute sound bath and meditation to bring you back into your body\, followed by a crystal and candle ritual and custom spell jar creation. Then it’s time for journaling\, tarot\, and sharing\, space to process what’s been coming up all day. Christina leads you through a values exercise\, a future self map\, and her board to help you get clear on who you’re becoming and what her life actually looks like. You’ll write a letter to yourself\, identify the one thing you’re committing to when you leave\, and close the session with the hour of stations to create\, reflect\, and land. \n\n\n\nWhy us?\n\n\n\nMiria is a sound healer\, intuitive guide\, and sacred space holder. She has spent years creating experiences that help women drop out of their heads and back into their bodies. She holds space in a way that feels safe\, soft\, and genuinely transformative. \n\n\n\nChristina is a creative strategist and community builder who has a gift for helping women get out of their own way. She takes the messy\, beautiful\, overwhelming thing living in your chest and helps you turn it into something real. \n\n\n\nTogether\, Miria opens the door and Christina helps you walk through it. That combination is rare and it is exactly what this day is built around. \n\n\n\nThe Details \n\n\n\nMorning Session only: $50Afternoon Session only: $50Both Sessions: $90 (save $10) \n\n\n\nYour ticket includes your full session experience\, all activity materials\, access to the station rotations\, morning coffee and muffins\, afternoon snacks and drinks\, and a cozy intentional space held by two women who genuinely care about you. \n\n\n\nCome cozy. Bring a blanket\, a pillow\, slippers\, a journal\, snacks you love. There is nothing to perform here. You just have to show up. \n\n\n\nSpots are limited and intentionally small. This is meant to feel intimate.
URL:https://awildflowersociety.com/event/wildflower-society-co-presents-a-one-day-womens-retreat/
LOCATION:Pioneer Hall\, 20722 67th Avenue Northeast\, Arlington\, WA\, 98223\, United States
ATTACH;FMTTYPE=image/png:https://awildflowersociety.com/wp-content/uploads/2026/03/Screen-Shot-2026-03-20-at-2.00.28-PM.png
END:VEVENT
END:VCALENDAR