BEGIN:VCALENDAR
VERSION:2.0
PRODID:-//The Wildflower Society Co. - ECPv6.15.20//NONSGML v1.0//EN
CALSCALE:GREGORIAN
METHOD:PUBLISH
X-ORIGINAL-URL:https://awildflowersociety.com
X-WR-CALDESC:Events for The Wildflower Society Co.
REFRESH-INTERVAL;VALUE=DURATION:PT1H
X-Robots-Tag:noindex
X-PUBLISHED-TTL:PT1H
BEGIN:VTIMEZONE
TZID:America/Los_Angeles
BEGIN:DAYLIGHT
TZOFFSETFROM:-0800
TZOFFSETTO:-0700
TZNAME:PDT
DTSTART:20250309T100000
END:DAYLIGHT
BEGIN:STANDARD
TZOFFSETFROM:-0700
TZOFFSETTO:-0800
TZNAME:PST
DTSTART:20251102T090000
END:STANDARD
BEGIN:DAYLIGHT
TZOFFSETFROM:-0800
TZOFFSETTO:-0700
TZNAME:PDT
DTSTART:20260308T100000
END:DAYLIGHT
BEGIN:STANDARD
TZOFFSETFROM:-0700
TZOFFSETTO:-0800
TZNAME:PST
DTSTART:20261101T090000
END:STANDARD
BEGIN:DAYLIGHT
TZOFFSETFROM:-0800
TZOFFSETTO:-0700
TZNAME:PDT
DTSTART:20270314T100000
END:DAYLIGHT
BEGIN:STANDARD
TZOFFSETFROM:-0700
TZOFFSETTO:-0800
TZNAME:PST
DTSTART:20271107T090000
END:STANDARD
END:VTIMEZONE
BEGIN:VEVENT
DTSTART;TZID=America/Los_Angeles:20260312T183000
DTEND;TZID=America/Los_Angeles:20260312T203000
DTSTAMP:20260422T113256
CREATED:20251021T213854Z
LAST-MODIFIED:20260309T223905Z
UID:10000021-1773340200-1773347400@awildflowersociety.com
SUMMARY:Women’s Circle: Releasing the Old / Welcoming the New
DESCRIPTION:Let go of what no longer serves you and open space for new beginnings. Reflective prompts\, symbolic crafting\, and shared support. \nIf you’ve been craving a space to gather\, grow\, and just breathe for a second\, you’re going to love what we’ve been pouring our hearts into. We’ve launched The Wildflower Women’s Circle—a space for deep conversations\, soul care\, and the kind of connections that just get you. \nThis is for the women of Snohomish County\, WA\, and surrounding areas (if you’re up for a little drive\, we’d love to have you!). \nA place where you can step away from the day-to-day\, connect with other like-minded women\, and leave feeling refreshed\, inspired\, and seen. \n  \nWe believe in the power of community\, and we want everyone to feel welcome in our Women’s Circle. Whether you’re new to the idea\, or you’ve circled before — we would love to have you!
URL:https://awildflowersociety.com/event/womens-circle-releasing-the-old-welcoming-the-new/
LOCATION:The Wildflower Society Co. Office\, 103 E 3rd St Suite 103\, Arlington\, WA\, 98223\, United States
CATEGORIES:Women's Circle
ATTACH;FMTTYPE=image/png:https://awildflowersociety.com/wp-content/uploads/2025/10/Screen-Shot-2026-03-09-at-3.38.22-PM.png
END:VEVENT
BEGIN:VEVENT
DTSTART;TZID=America/Los_Angeles:20260409T180000
DTEND;TZID=America/Los_Angeles:20260409T200000
DTSTAMP:20260422T113256
CREATED:20251021T214209Z
LAST-MODIFIED:20260123T233638Z
UID:10000024-1775757600-1775764800@awildflowersociety.com
SUMMARY:Women’s Circle: Wild Woman Awakening
DESCRIPTION:Reconnect to your untamed\, authentic self. This circle invites freedom\, intuition\, creativity\, and playful empowerment. \nIf you’ve been craving a space to gather\, grow\, and just breathe for a second\, you’re going to love what we’ve been pouring our hearts into. We’ve launched The Wildflower Women’s Circle—a space for deep conversations\, soul care\, and the kind of connections that just get you. \nThis is for the women of Snohomish County\, WA\, and surrounding areas (if you’re up for a little drive\, we’d love to have you!). \nA place where you can step away from the day-to-day\, connect with other like-minded women\, and leave feeling refreshed\, inspired\, and seen. \n  \nWe believe in the power of community\, and we want everyone to feel welcome in our Women’s Circle. Whether you’re new to the idea\, or you’ve circled before — we would love to have you!
URL:https://awildflowersociety.com/event/womens-circle-wild-woman-awakening/
LOCATION:The Wildflower Society Co. Office\, 103 E 3rd St Suite 103\, Arlington\, WA\, 98223\, United States
CATEGORIES:Women's Circle
ATTACH;FMTTYPE=image/png:https://awildflowersociety.com/wp-content/uploads/2025/10/April-WC.png
END:VEVENT
BEGIN:VEVENT
DTSTART;TZID=America/Los_Angeles:20260514T180000
DTEND;TZID=America/Los_Angeles:20260514T200000
DTSTAMP:20260422T113256
CREATED:20260130T233111Z
LAST-MODIFIED:20260130T233114Z
UID:10000085-1778781600-1778788800@awildflowersociety.com
SUMMARY:Women’s Circle: Nourishing Your Body
DESCRIPTION:May’s Women’s Circle focuses on reconnecting with your body through gentleness\, curiosity\, and care. This gathering explores nourishment beyond food and invites a more compassionate relationship with your body. \nThe experience includes guided meditation\, a sound bath\, intuitive exercises\, and reflective journaling designed to support awareness\, balance\, and self trust. \n  \nIf you’ve been craving a space to gather\, grow\, and just breathe for a second\, you’re going to love what we’ve been pouring our hearts into. We’ve launched The Wildflower Women’s Circle—a space for deep conversations\, soul care\, and the kind of connections that just get you. \nThis is for the women of Snohomish County\, WA\, and surrounding areas (if you’re up for a little drive\, we’d love to have you!). \nA place where you can step away from the day-to-day\, connect with other like-minded women\, and leave feeling refreshed\, inspired\, and seen. \n  \nWe believe in the power of community\, and we want everyone to feel welcome in our Women’s Circle. Whether you’re new to the idea\, or you’ve circled before — we would love to have you!
URL:https://awildflowersociety.com/event/womens-circle-nourishing-your-body/
LOCATION:The Wildflower Society Co. Office\, 103 E 3rd St Suite 103\, Arlington\, WA\, 98223\, United States
CATEGORIES:Women's Circle
ATTACH;FMTTYPE=image/png:https://awildflowersociety.com/wp-content/uploads/2025/10/25.png
END:VEVENT
BEGIN:VEVENT
DTSTART;TZID=America/Los_Angeles:20260611T180000
DTEND;TZID=America/Los_Angeles:20260611T200000
DTSTAMP:20260422T113256
CREATED:20260130T233410Z
LAST-MODIFIED:20260130T233413Z
UID:10000086-1781200800-1781208000@awildflowersociety.com
SUMMARY:Women’s Circle: Heal Your Inner Child
DESCRIPTION:June’s circle offers a tender space to reconnect with your inner child. The part of you that carries both joy and unmet needs. \nThrough meditation\, creative expression\, and reflective prompts\, this circle supports healing\, self compassion\, and emotional awareness in a grounded and supportive environment. \nIf you’ve been craving a space to gather\, grow\, and just breathe for a second\, you’re going to love what we’ve been pouring our hearts into. We’ve launched The Wildflower Women’s Circle—a space for deep conversations\, soul care\, and the kind of connections that just get you. \nThis is for the women of Snohomish County\, WA\, and surrounding areas (if you’re up for a little drive\, we’d love to have you!). \nA place where you can step away from the day-to-day\, connect with other like-minded women\, and leave feeling refreshed\, inspired\, and seen. \n  \nWe believe in the power of community\, and we want everyone to feel welcome in our Women’s Circle. Whether you’re new to the idea\, or you’ve circled before — we would love to have you!
URL:https://awildflowersociety.com/event/womens-circle-heal-your-inner-child/
LOCATION:The Wildflower Society Co. Office\, 103 E 3rd St Suite 103\, Arlington\, WA\, 98223\, United States
CATEGORIES:Women's Circle
ATTACH;FMTTYPE=image/png:https://awildflowersociety.com/wp-content/uploads/2025/10/25.png
END:VEVENT
BEGIN:VEVENT
DTSTART;TZID=America/Los_Angeles:20260709T180000
DTEND;TZID=America/Los_Angeles:20260709T200000
DTSTAMP:20260422T113256
CREATED:20260130T233408Z
LAST-MODIFIED:20260130T233411Z
UID:10000087-1783620000-1783627200@awildflowersociety.com
SUMMARY:Women’s Circle: Embrace Your Inner Goddess
DESCRIPTION:July’s Women’s Circle centers on embodiment\, confidence\, and self trust. This gathering invites you to explore personal power and reconnect with your inner strength in a grounded and supportive way. \nThe experience includes meditation\, reflection\, a sound bath\, and themed activities designed to support confidence and self expression. \nIf you’ve been craving a space to gather\, grow\, and just breathe for a second\, you’re going to love what we’ve been pouring our hearts into. We’ve launched The Wildflower Women’s Circle—a space for deep conversations\, soul care\, and the kind of connections that just get you. \nThis is for the women of Snohomish County\, WA\, and surrounding areas (if you’re up for a little drive\, we’d love to have you!). \nA place where you can step away from the day-to-day\, connect with other like-minded women\, and leave feeling refreshed\, inspired\, and seen. \n  \nWe believe in the power of community\, and we want everyone to feel welcome in our Women’s Circle. Whether you’re new to the idea\, or you’ve circled before — we would love to have you!
URL:https://awildflowersociety.com/event/womens-circle-embrace-your-inner-goddess/
LOCATION:The Wildflower Society Co. Office\, 103 E 3rd St Suite 103\, Arlington\, WA\, 98223\, United States
CATEGORIES:Women's Circle
ATTACH;FMTTYPE=image/png:https://awildflowersociety.com/wp-content/uploads/2025/10/25.png
END:VEVENT
BEGIN:VEVENT
DTSTART;TZID=America/Los_Angeles:20260813T180000
DTEND;TZID=America/Los_Angeles:20260813T200000
DTSTAMP:20260422T113256
CREATED:20260130T233443Z
LAST-MODIFIED:20260130T233446Z
UID:10000088-1786644000-1786651200@awildflowersociety.com
SUMMARY:Women’s Circle: boundaries and releasing guilt
DESCRIPTION:August’s circle focuses on boundaries and releasing the guilt that often surrounds them. Together we will explore what healthy boundaries look like and how to honor personal needs without shame. \nThis experience includes guided meditation\, reflective exercises\, and intuitive creative activities that support clarity\, self trust\, and empowerment. \nIf you’ve been craving a space to gather\, grow\, and just breathe for a second\, you’re going to love what we’ve been pouring our hearts into. We’ve launched The Wildflower Women’s Circle—a space for deep conversations\, soul care\, and the kind of connections that just get you. \nThis is for the women of Snohomish County\, WA\, and surrounding areas (if you’re up for a little drive\, we’d love to have you!). \nA place where you can step away from the day-to-day\, connect with other like-minded women\, and leave feeling refreshed\, inspired\, and seen. \n  \nWe believe in the power of community\, and we want everyone to feel welcome in our Women’s Circle. Whether you’re new to the idea\, or you’ve circled before — we would love to have you!
URL:https://awildflowersociety.com/event/womens-circle-boundaries-and-releasing-guilt/
LOCATION:The Wildflower Society Co. Office\, 103 E 3rd St Suite 103\, Arlington\, WA\, 98223\, United States
CATEGORIES:Women's Circle
ATTACH;FMTTYPE=image/png:https://awildflowersociety.com/wp-content/uploads/2025/10/25.png
END:VEVENT
BEGIN:VEVENT
DTSTART;TZID=America/Los_Angeles:20260910T180000
DTEND;TZID=America/Los_Angeles:20260910T200000
DTSTAMP:20260422T113256
CREATED:20260130T233618Z
LAST-MODIFIED:20260130T233621Z
UID:10000089-1789063200-1789070400@awildflowersociety.com
SUMMARY:Women’s Circle: Ignite Your Feminine Energy
DESCRIPTION:September’s Women’s Circle explores feminine energy in all of its forms. Both soft and strong\, intuitive and grounded. \nThrough guided meditation\, reflection\, tarot\, and creative activities\, this gathering supports embodiment\, balance\, and reconnecting with personal power. \nIf you’ve been craving a space to gather\, grow\, and just breathe for a second\, you’re going to love what we’ve been pouring our hearts into. We’ve launched The Wildflower Women’s Circle—a space for deep conversations\, soul care\, and the kind of connections that just get you. \nThis is for the women of Snohomish County\, WA\, and surrounding areas (if you’re up for a little drive\, we’d love to have you!). \nA place where you can step away from the day-to-day\, connect with other like-minded women\, and leave feeling refreshed\, inspired\, and seen. \n  \nWe believe in the power of community\, and we want everyone to feel welcome in our Women’s Circle. Whether you’re new to the idea\, or you’ve circled before — we would love to have you!
URL:https://awildflowersociety.com/event/womens-circle-ignite-your-feminine-energy/
LOCATION:The Wildflower Society Co. Office\, 103 E 3rd St Suite 103\, Arlington\, WA\, 98223\, United States
CATEGORIES:Women's Circle
ATTACH;FMTTYPE=image/png:https://awildflowersociety.com/wp-content/uploads/2025/10/25.png
END:VEVENT
BEGIN:VEVENT
DTSTART;TZID=America/Los_Angeles:20261008T180000
DTEND;TZID=America/Los_Angeles:20261008T200000
DTSTAMP:20260422T113256
CREATED:20260130T233640Z
LAST-MODIFIED:20260130T233643Z
UID:10000090-1791482400-1791489600@awildflowersociety.com
SUMMARY:Women’s Circle: Shadow Work
DESCRIPTION:October’s circle offers a gentle and accessible introduction to shadow work. This is not about fixing yourself\, but about understanding and accepting the parts of yourself that are often hidden or misunderstood. \nThe experience includes guided meditation\, reflection\, and a hands on ritual activity designed to support awareness\, integration\, and self compassion. \nIf you’ve been craving a space to gather\, grow\, and just breathe for a second\, you’re going to love what we’ve been pouring our hearts into. We’ve launched The Wildflower Women’s Circle—a space for deep conversations\, soul care\, and the kind of connections that just get you. \nThis is for the women of Snohomish County\, WA\, and surrounding areas (if you’re up for a little drive\, we’d love to have you!). \nA place where you can step away from the day-to-day\, connect with other like-minded women\, and leave feeling refreshed\, inspired\, and seen. \n  \nWe believe in the power of community\, and we want everyone to feel welcome in our Women’s Circle. Whether you’re new to the idea\, or you’ve circled before — we would love to have you!
URL:https://awildflowersociety.com/event/womens-circle-shadow-work/
LOCATION:The Wildflower Society Co. Office\, 103 E 3rd St Suite 103\, Arlington\, WA\, 98223\, United States
CATEGORIES:Women's Circle
ATTACH;FMTTYPE=image/png:https://awildflowersociety.com/wp-content/uploads/2025/10/25.png
END:VEVENT
BEGIN:VEVENT
DTSTART;TZID=America/Los_Angeles:20261112T180000
DTEND;TZID=America/Los_Angeles:20261112T200000
DTSTAMP:20260422T113256
CREATED:20260130T233834Z
LAST-MODIFIED:20260130T233837Z
UID:10000093-1794506400-1794513600@awildflowersociety.com
SUMMARY:Women’s Circle: Honoring Grief and Loss
DESCRIPTION:November’s Women’s Circle is a supportive space for honoring grief in all its forms. Loss\, transition\, change\, and letting go. \nThrough reflection\, writing\, meditation\, and a calming sound bath\, this gathering invites you to acknowledge what has been carried quietly and find comfort in shared presence. This circle is not limited to grief related to death. \nIf you’ve been craving a space to gather\, grow\, and just breathe for a second\, you’re going to love what we’ve been pouring our hearts into. We’ve launched The Wildflower Women’s Circle—a space for deep conversations\, soul care\, and the kind of connections that just get you. \nThis is for the women of Snohomish County\, WA\, and surrounding areas (if you’re up for a little drive\, we’d love to have you!). \nA place where you can step away from the day-to-day\, connect with other like-minded women\, and leave feeling refreshed\, inspired\, and seen. \n  \nWe believe in the power of community\, and we want everyone to feel welcome in our Women’s Circle. Whether you’re new to the idea\, or you’ve circled before — we would love to have you!
URL:https://awildflowersociety.com/event/womens-circle-honoring-grief-and-loss/
LOCATION:The Wildflower Society Co. Office\, 103 E 3rd St Suite 103\, Arlington\, WA\, 98223\, United States
CATEGORIES:Women's Circle
ATTACH;FMTTYPE=image/png:https://awildflowersociety.com/wp-content/uploads/2025/10/25.png
END:VEVENT
BEGIN:VEVENT
DTSTART;TZID=America/Los_Angeles:20261210T180000
DTEND;TZID=America/Los_Angeles:20261210T200000
DTSTAMP:20260422T113256
CREATED:20260130T233848Z
LAST-MODIFIED:20260130T233850Z
UID:10000094-1796925600-1796932800@awildflowersociety.com
SUMMARY:Women’s Circle: Rewriting Your Story
DESCRIPTION:December’s circle is a reflective close to the year and an intentional pause before the next season begins. Together we will reflect on what you are releasing and what you want to carry forward. \nThis experience includes guided meditation\, visualization\, journaling\, and a mini vision practice designed to help you step into the new year with clarity and intention. \nIf you’ve been craving a space to gather\, grow\, and just breathe for a second\, you’re going to love what we’ve been pouring our hearts into. We’ve launched The Wildflower Women’s Circle—a space for deep conversations\, soul care\, and the kind of connections that just get you. \nThis is for the women of Snohomish County\, WA\, and surrounding areas (if you’re up for a little drive\, we’d love to have you!). \nA place where you can step away from the day-to-day\, connect with other like-minded women\, and leave feeling refreshed\, inspired\, and seen. \n  \nWe believe in the power of community\, and we want everyone to feel welcome in our Women’s Circle. Whether you’re new to the idea\, or you’ve circled before — we would love to have you!
URL:https://awildflowersociety.com/event/womens-circle-rewriting-your-story/
LOCATION:The Wildflower Society Co. Office\, 103 E 3rd St Suite 103\, Arlington\, WA\, 98223\, United States
CATEGORIES:Women's Circle
ATTACH;FMTTYPE=image/png:https://awildflowersociety.com/wp-content/uploads/2025/10/25.png
END:VEVENT
END:VCALENDAR