BEGIN:VCALENDAR
VERSION:2.0
PRODID:-//The Wildflower Society Co. - ECPv6.15.20//NONSGML v1.0//EN
CALSCALE:GREGORIAN
METHOD:PUBLISH
X-WR-CALNAME:The Wildflower Society Co.
X-ORIGINAL-URL:https://awildflowersociety.com
X-WR-CALDESC:Events for The Wildflower Society Co.
REFRESH-INTERVAL;VALUE=DURATION:PT1H
X-Robots-Tag:noindex
X-PUBLISHED-TTL:PT1H
BEGIN:VTIMEZONE
TZID:America/Los_Angeles
BEGIN:DAYLIGHT
TZOFFSETFROM:-0800
TZOFFSETTO:-0700
TZNAME:PDT
DTSTART:20250309T100000
END:DAYLIGHT
BEGIN:STANDARD
TZOFFSETFROM:-0700
TZOFFSETTO:-0800
TZNAME:PST
DTSTART:20251102T090000
END:STANDARD
BEGIN:DAYLIGHT
TZOFFSETFROM:-0800
TZOFFSETTO:-0700
TZNAME:PDT
DTSTART:20260308T100000
END:DAYLIGHT
BEGIN:STANDARD
TZOFFSETFROM:-0700
TZOFFSETTO:-0800
TZNAME:PST
DTSTART:20261101T090000
END:STANDARD
BEGIN:DAYLIGHT
TZOFFSETFROM:-0800
TZOFFSETTO:-0700
TZNAME:PDT
DTSTART:20270314T100000
END:DAYLIGHT
BEGIN:STANDARD
TZOFFSETFROM:-0700
TZOFFSETTO:-0800
TZNAME:PST
DTSTART:20271107T090000
END:STANDARD
END:VTIMEZONE
BEGIN:VEVENT
DTSTART;TZID=America/Los_Angeles:20260207T110000
DTEND;TZID=America/Los_Angeles:20260207T170000
DTSTAMP:20260424T090045
CREATED:20251021T215144Z
LAST-MODIFIED:20260123T235112Z
UID:10000030-1770462000-1770483600@awildflowersociety.com
SUMMARY:Wildflower Glitter & Lace Pop-up Market
DESCRIPTION:Join us for our Glitter & Lace Market – a girls’ day overflowing with charm\, connection\, and all things pink and pretty. Expect a perfect 50/50 blend of self-care services (think spa vibes + energy work) and shopping finds (boutique clothing\, candles\, accessories\, sweets) from our favorite local vendors. \nBring your bestie\, your mom\, or your mini-me and spend the day surrounded by laughter\, treats\, and good energy.
URL:https://awildflowersociety.com/event/wildflower-glitter-lace-pop-up-market/
LOCATION:Pioneer Hall\, 20722 67th Avenue Northeast\, Arlington\, WA\, 98223\, United States
CATEGORIES:Wildflower Markets
ATTACH;FMTTYPE=image/png:https://awildflowersociety.com/wp-content/uploads/2025/10/20.png
END:VEVENT
END:VCALENDAR