BEGIN:VCALENDAR
VERSION:2.0
PRODID:-//The Wildflower Society Co. - ECPv6.15.20//NONSGML v1.0//EN
CALSCALE:GREGORIAN
METHOD:PUBLISH
X-WR-CALNAME:The Wildflower Society Co.
X-ORIGINAL-URL:https://awildflowersociety.com
X-WR-CALDESC:Events for The Wildflower Society Co.
REFRESH-INTERVAL;VALUE=DURATION:PT1H
X-Robots-Tag:noindex
X-PUBLISHED-TTL:PT1H
BEGIN:VTIMEZONE
TZID:America/Los_Angeles
BEGIN:DAYLIGHT
TZOFFSETFROM:-0800
TZOFFSETTO:-0700
TZNAME:PDT
DTSTART:20250309T100000
END:DAYLIGHT
BEGIN:STANDARD
TZOFFSETFROM:-0700
TZOFFSETTO:-0800
TZNAME:PST
DTSTART:20251102T090000
END:STANDARD
BEGIN:DAYLIGHT
TZOFFSETFROM:-0800
TZOFFSETTO:-0700
TZNAME:PDT
DTSTART:20260308T100000
END:DAYLIGHT
BEGIN:STANDARD
TZOFFSETFROM:-0700
TZOFFSETTO:-0800
TZNAME:PST
DTSTART:20261101T090000
END:STANDARD
BEGIN:DAYLIGHT
TZOFFSETFROM:-0800
TZOFFSETTO:-0700
TZNAME:PDT
DTSTART:20270314T100000
END:DAYLIGHT
BEGIN:STANDARD
TZOFFSETFROM:-0700
TZOFFSETTO:-0800
TZNAME:PST
DTSTART:20271107T090000
END:STANDARD
END:VTIMEZONE
BEGIN:VEVENT
DTSTART;TZID=America/Los_Angeles:20260110T110000
DTEND;TZID=America/Los_Angeles:20260110T170000
DTSTAMP:20260422T022232
CREATED:20251021T215041Z
LAST-MODIFIED:20260107T184059Z
UID:10000029-1768042800-1768064400@awildflowersociety.com
SUMMARY:Wildflower Warm & Cozy Winter Pop-Up Market
DESCRIPTION:Your favorite girls’ day out is back – and she’s wearing fuzzy socks. \nJoin us for the Warm & Cozy Winter Market\, Saturday January 10th at Pioneer Hall in Arlington\, WA \nGrab your bestie\, your mom\, or your sister and spend the day with us – sipping\, shopping\, and soaking in small-town magic. This is your gentle permission slip to rest\, recharge\, and romanticize winter again.
URL:https://awildflowersociety.com/event/wildflower-warm-cozy-winter-pop-up-market/
LOCATION:Pioneer Hall\, 20722 67th Avenue Northeast\, Arlington\, WA\, 98223\, United States
CATEGORIES:Wildflower Markets
ATTACH;FMTTYPE=image/png:https://awildflowersociety.com/wp-content/uploads/2025/10/Jan-Market.png
END:VEVENT
END:VCALENDAR